BEGIN:VCALENDAR
VERSION:2.0
PRODID:-//Bundesverband Rettungshunde Österreich - ECPv6.5.2//NONSGML v1.0//EN
CALSCALE:GREGORIAN
METHOD:PUBLISH
X-ORIGINAL-URL:https://www.rettungshunde.eu
X-WR-CALDESC:Veranstaltungen für Bundesverband Rettungshunde Österreich
REFRESH-INTERVAL;VALUE=DURATION:PT1H
X-Robots-Tag:noindex
X-PUBLISHED-TTL:PT1H
BEGIN:VTIMEZONE
TZID:Europe/Vienna
BEGIN:DAYLIGHT
TZOFFSETFROM:+0100
TZOFFSETTO:+0200
TZNAME:CEST
DTSTART:20250330T010000
END:DAYLIGHT
BEGIN:STANDARD
TZOFFSETFROM:+0200
TZOFFSETTO:+0100
TZNAME:CET
DTSTART:20251026T010000
END:STANDARD
END:VTIMEZONE
BEGIN:VEVENT
DTSTART;TZID=Europe/Vienna:20251029T181500
DTEND;TZID=Europe/Vienna:20251029T191500
DTSTAMP:20260425T172346
CREATED:20250929T182819Z
LAST-MODIFIED:20251027T091758Z
UID:10000019-1761761700-1761765300@www.rettungshunde.eu
SUMMARY:Hundegruppenfitness – Gemeinsam fit bleiben!
DESCRIPTION:Fitnesstraining für Hund und Mensch in der Kleingruppe \nUnser Hundefitnesstraining richtet sich an gesunde\, voll belastbare Hunde und ihre Menschen\, die gemeinsam aktiv bleiben möchten – ganz im Sinne der Prävention und Lebensfreude! \nKursdetails:\n\nGruppengröße: Max. 5 Hund-Mensch-Teams\nDauer: 60 Minuten pro Einheit\nVoraussetzung: Gesunder und belastbarer Hund\n5 Termine inkludiert\n\n\nWarum Fitnesstraining in der Gruppe?\n✔ Verletzungsprophylaxe & Prävention\n✔ Mehr Lebensqualität & Vitalität – besonders im Alter\n✔ Bessere Körperwahrnehmung & Stressabbau\n✔ Leistungssteigerung für andere Hundesportarten\n✔ Treffen mit Gleichgesinnten\n✔ Stärkung der Bindung & des Vertrauens\n✔ Gemeinsames Arbeiten – trotz Ablenkung durch andere Hunde \n  \nKursleiterin: \nAlexandra HornyKursleitungHundefitnesstraining Horny \nweitere Informationen\n  \n  \nWann: Mittwoch\, 29.10. / 05.11. / 12.11. / 26.11. / 03.12.2025 – 18:15 bis 19:15 Uhr \nWo: Rettungshunde Niederösterreich\, Rettungshunde NÖ-Str. 1\, 3443 Sieghartskirchen \n  \nKosten: 150.- für alle 5 Termine \nTeilnehmer: max. 5 \nBei zu geringer Teilnehmerzahlen behalten wir uns vor\, den Kurs abzusagen bzw. zu verschieben.
URL:https://www.rettungshunde.eu/termin/hundegruppenfitness-gemeinsam-fit-bleiben-2/
LOCATION:Rettungshunde Niederösterreich Ausbildungszentrum\, Rettungshunde NÖ-Str. 1\, Sieghartskirchen\, Niederösterreich\, 3443\, Austria
CATEGORIES:Fitness und Gesundheit
ATTACH;FMTTYPE=image/jpeg:https://www.rettungshunde.eu/wp-content/uploads/2025/09/Lia_Fitness1-scaled.jpg
END:VEVENT
END:VCALENDAR