BEGIN:VCALENDAR
VERSION:2.0
PRODID:-//Bundesverband Rettungshunde Österreich - ECPv6.5.2//NONSGML v1.0//EN
CALSCALE:GREGORIAN
METHOD:PUBLISH
X-WR-CALNAME:Bundesverband Rettungshunde Österreich
X-ORIGINAL-URL:https://www.rettungshunde.eu
X-WR-CALDESC:Veranstaltungen für Bundesverband Rettungshunde Österreich
REFRESH-INTERVAL;VALUE=DURATION:PT1H
X-Robots-Tag:noindex
X-PUBLISHED-TTL:PT1H
BEGIN:VTIMEZONE
TZID:Europe/Vienna
BEGIN:DAYLIGHT
TZOFFSETFROM:+0100
TZOFFSETTO:+0200
TZNAME:CEST
DTSTART:20230326T010000
END:DAYLIGHT
BEGIN:STANDARD
TZOFFSETFROM:+0200
TZOFFSETTO:+0100
TZNAME:CET
DTSTART:20231029T010000
END:STANDARD
END:VTIMEZONE
BEGIN:VEVENT
DTSTART;TZID=Europe/Vienna:20230106T100000
DTEND;TZID=Europe/Vienna:20230106T130000
DTSTAMP:20260425T213200
CREATED:20221128T214108Z
LAST-MODIFIED:20221128T214108Z
UID:10000001-1672999200-1673010000@www.rettungshunde.eu
SUMMARY:Eignungstest Socialdogs
DESCRIPTION:Mindestalter der Hunde: 12 Monate \nVoraussetzung: Guter Grundgehorsam\, Verträglichkeit \nBitte die Gebühr von 10.- gleich nach der Anmeldung auf folgendes Konto überweisen: IBAN: AT293200000011057270 lautend auf Rettungshunde Niederösterreich mit dem Betreff “Eignungstest” \nOhne vorheriger Anmeldung ist eine Teilnahme nicht möglich. \nDer Eignungstest ist die Voraussetzung zur Teilnahme an unserem Socialdogsseminar – Bitte nehmen Sie am Eignungstest nur teil\, wenn Sie bei Eignung des Hundes auch am Seminar teilnehmen werden. Wir möchten uns einen Eindruck über Ihren Hund machen\, in erster Linie ist uns das Wohlergehen Ihres Tieres wichtig. Der Hund soll von sich aus den Kontakt zum Menschen suchen und dabei Freude zeigen. Ebenso ist ein guter Grundgehorsam wichtig\, eventuell wäre ein Besuch unseres Vorbereitungskurses im Herbst 2022 für Sie interessant.
URL:https://www.rettungshunde.eu/termin/eignungstest-socialdogs/
LOCATION:Rettungshunde Niederösterreich Ausbildungszentrum\, Rettungshunde NÖ-Str. 1\, Sieghartskirchen\, Niederösterreich\, 3443\, Austria
ORGANIZER;CN="Rettungshunde Nieder%C3%B6sterreich":MAILTO:office@rettungshunde.eu
END:VEVENT
END:VCALENDAR