BEGIN:VCALENDAR
VERSION:2.0
PRODID:-//Bundesverband Rettungshunde Österreich - ECPv6.5.2//NONSGML v1.0//EN
CALSCALE:GREGORIAN
METHOD:PUBLISH
X-WR-CALNAME:Bundesverband Rettungshunde Österreich
X-ORIGINAL-URL:https://www.rettungshunde.eu
X-WR-CALDESC:Veranstaltungen für Bundesverband Rettungshunde Österreich
REFRESH-INTERVAL;VALUE=DURATION:PT1H
X-Robots-Tag:noindex
X-PUBLISHED-TTL:PT1H
BEGIN:VTIMEZONE
TZID:Europe/Vienna
BEGIN:DAYLIGHT
TZOFFSETFROM:+0100
TZOFFSETTO:+0200
TZNAME:CEST
DTSTART:20230326T010000
END:DAYLIGHT
BEGIN:STANDARD
TZOFFSETFROM:+0200
TZOFFSETTO:+0100
TZNAME:CET
DTSTART:20231029T010000
END:STANDARD
END:VTIMEZONE
BEGIN:VEVENT
DTSTART;TZID=Europe/Vienna:20230429T100000
DTEND;TZID=Europe/Vienna:20230429T120000
DTSTAMP:20260425T175719
CREATED:20230418T201233Z
LAST-MODIFIED:20230418T203356Z
UID:10000007-1682762400-1682769600@www.rettungshunde.eu
SUMMARY:Erste Hilfe Kurs beim Hund in Tirol
DESCRIPTION:Es kann schnell etwas passieren und mit einem Erste Hilfe Kurs beim Hund ist man für den Notfall gut gerüstet. \nKosten: 39.-   Der Reinerlös kommt der Landesgruppe Tirol zugute. \nWann: 29.04.2023 \nWo: Hundeschule Rendl Dogs Kufstein. \nIhr Hund ist bei diesem Kurs Herzlich willkommen. \n  \nFür einen kleinen Imbiss ist ebenfalls gesorgt. \n 
URL:https://www.rettungshunde.eu/termin/erste-hilfe-kurs-beim-hund/
LOCATION:Rendl Dogs Kufstein\, Kufstein\, Tirol\, 6330\, Austria
CATEGORIES:Mantrailer
END:VEVENT
END:VCALENDAR